View In:
ArcGIS JavaScript
ArcGIS Online Map Viewer
ArcGIS Earth
Service Description: Test/Ekonomiska_kartan
Name: Test/Ekonomiska_kartan
Description:
Single Fused Map Cache: true
Tile Info:
- Height: 256
- Width: 256
- DPI: 96
-
Levels of Detail: 10
- Format: PNG
- Compression Quality: 0.0
- LERC Error: NaN
- Origin: X: -5473200.0
Y: 1.00021E7
- Spatial Reference: 3011
(3011)
LatestVCSWkid(0)
Storage Info:
- Storage Format: esriMapCacheStorageModeCompactV2
- Packet Size: 128
Extent:
XMin: 155371.13206228003
YMin: 6586753.261899972
XMax: 205989.54839963096
YMax: 6613051.685069571
Spatial Reference: 3011
(3011)
LatestVCSWkid(0)
Initial Extent:
XMin: 155371.13206228003
YMin: 6586753.261899972
XMax: 205989.54839963096
YMax: 6613051.685069571
Spatial Reference: 3011
(3011)
LatestVCSWkid(0)
Full Extent:
XMin: 155371.13206228003
YMin: 6586753.261899972
XMax: 205989.54839963096
YMax: 6613051.685069571
Spatial Reference: 3011
(3011)
LatestVCSWkid(0)
Pixel Size X: 0.999711973166728
Pixel Size Y: 0.9997119732988259
Band Count: 3
Pixel Type: U8
RasterFunction Infos: {"rasterFunctionInfos": [{
"name": "None",
"description": "",
"help": ""
}]}
Mensuration Capabilities: Basic
Inspection Capabilities:
Has Histograms: false
Has Colormap: false
Has Multi Dimensions : false
Rendering Rule:
Min Scale: 200000
Max Scale: 500
Min LOD: 0
Max LOD: 9
Copyright Text:
Service Data Type: esriImageServiceDataTypeRGB
Min Values: N/A
Max Values: N/A
Mean Values: N/A
Standard Deviation Values: N/A
Object ID Field:
Fields:
None
Default Mosaic Method: Center
Allowed Mosaic Methods:
SortField:
SortValue: null
Mosaic Operator: First
Default Compression Quality: 75
Default Resampling Method: Bilinear
Max Record Count: null
Max Image Height: 4100
Max Image Width: 15000
Max Download Image Count: null
Max Mosaic Image Count: null
Allow Raster Function: true
Allow Copy: true
Allow Analysis: true
Allow Compute TiePoints: false
Supports Statistics: false
Supports Advanced Queries: false
Use StandardizedQueries: true
Raster Type Infos:
Name: Raster Dataset
Description: Supports all ArcGIS Raster Datasets
Help:
Has Raster Attribute Table: false
Edit Fields Info: null
Ownership Based AccessControl For Rasters: null
Child Resources:
Info
Statistics
Key Properties
Legend
Raster Function Infos
Supported Operations:
Export Image
Identify
Measure
Compute Histograms
Compute Statistics Histograms
Get Samples
Compute Class Statistics
Query Boundary
Compute Pixel Location
Compute Angles
Validate
Project