{
 "currentVersion": 11.3,
 "serviceDescription": "Test/Ekonomiska_kartan",
 "name": "Test/Ekonomiska_kartan",
 "description": "",
 "extent": {
  "xmin": 155371.13206228003,
  "ymin": 6586753.261899972,
  "xmax": 205989.54839963096,
  "ymax": 6613051.685069571,
  "spatialReference": {
   "wkid": 3011,
   "latestWkid": 3011
  }
 },
 "initialExtent": {
  "xmin": 155371.13206228003,
  "ymin": 6586753.261899972,
  "xmax": 205989.54839963096,
  "ymax": 6613051.685069571,
  "spatialReference": {
   "wkid": 3011,
   "latestWkid": 3011
  }
 },
 "fullExtent": {
  "xmin": 155371.13206228003,
  "ymin": 6586753.261899972,
  "xmax": 205989.54839963096,
  "ymax": 6613051.685069571,
  "spatialReference": {
   "wkid": 3011,
   "latestWkid": 3011
  }
 },
 "sortableFields": "",
 "bandCount": 3,
 "pixelType": "U8",
 "minValues": [],
 "maxValues": [],
 "meanValues": [],
 "stdvValues": [],
 "hasMultidimensions": false,
 "pixelSizeX": 0.999711973166728,
 "pixelSizeY": 0.9997119732988259,
 "meanPixelSize": 0.9997119732327769,
 "datasetFormat": "SDR",
 "uncompressedSize": 3995855094,
 "blockWidth": 128,
 "blockHeight": 128,
 "compressionType": "NONE",
 "bandNames": [
  "Band_1",
  "Band_2",
  "Band_3"
 ],
 "allowCopy": true,
 "allowAnalysis": true,
 "itemAccess": false,
 "inspectionCapabilities": "",
 "minPixelSize": 0.13229193125052918,
 "maxPixelSize": 52.91677250021167,
 "copyrightText": "",
 "serviceDataType": "esriImageServiceDataTypeRGB",
 "serviceSourceType": "esriImageServiceSourceTypeDataset",
 "objectIdField": "",
 "fields": [],
 "capabilities": "Image,Metadata,Mensuration",
 "defaultMosaicMethod": "Center",
 "allowedMosaicMethods": "",
 "sortField": "",
 "sortValue": null,
 "sortAscending": true,
 "mosaicOperator": "First",
 "defaultCompressionQuality": 75,
 "defaultResamplingMethod": "Bilinear",
 "maxImageHeight": 4100,
 "maxImageWidth": 15000,
 "singleFusedMapCache": true,
 "tileInfo": {
  "rows": 256,
  "cols": 256,
  "dpi": 96,
  "format": "PNG",
  "compressionQuality": 0,
  "origin": {
   "x": -5473200,
   "y": 10002100
  },
  "spatialReference": {
   "wkid": 3011,
   "latestWkid": 3011
  },
  "lods": [
   {
    "level": 0,
    "resolution": 52.91677250021167,
    "scale": 200000
   },
   {
    "level": 1,
    "resolution": 26.458386250105836,
    "scale": 100000
   },
   {
    "level": 2,
    "resolution": 13.229193125052918,
    "scale": 50000
   },
   {
    "level": 3,
    "resolution": 6.614596562526459,
    "scale": 25000
   },
   {
    "level": 4,
    "resolution": 2.6458386250105836,
    "scale": 10000
   },
   {
    "level": 5,
    "resolution": 1.3229193125052918,
    "scale": 5000
   },
   {
    "level": 6,
    "resolution": 0.7937515875031751,
    "scale": 3000
   },
   {
    "level": 7,
    "resolution": 0.5291677250021167,
    "scale": 2000
   },
   {
    "level": 8,
    "resolution": 0.26458386250105836,
    "scale": 1000
   },
   {
    "level": 9,
    "resolution": 0.13229193125052918,
    "scale": 500
   }
  ]
 },
 "storageInfo": {
  "storageFormat": "esriMapCacheStorageModeCompactV2",
  "packetSize": 128
 },
 "cacheType": "Map",
 "allowRasterFunction": true,
 "rasterFunctionInfos": [
  {
   "name": "None",
   "description": "",
   "help": ""
  }
 ],
 "rasterTypeInfos": [
  {
   "name": "Raster Dataset",
   "description": "Supports all ArcGIS Raster Datasets",
   "help": ""
  }
 ],
 "mensurationCapabilities": "Basic",
 "hasHistograms": false,
 "hasColormap": false,
 "hasRasterAttributeTable": false,
 "minScale": 200000,
 "maxScale": 500,
 "minLOD": 0,
 "maxLOD": 9,
 "exportTilesAllowed": false,
 "supportsStatistics": false,
 "supportsAdvancedQueries": false,
 "editFieldsInfo": null,
 "ownershipBasedAccessControlForRasters": null,
 "allowComputeTiePoints": false,
 "useStandardizedQueries": true,
 "advancedQueryCapabilities": {
  "useStandardizedQueries": true,
  "supportsStatistics": false,
  "supportsOrderBy": false,
  "supportsDistinct": false,
  "supportsPagination": false
 },
 "spatialReference": {
  "wkid": 3011,
  "latestWkid": 3011
 }
}
